BEGIN:VCALENDAR
VERSION:2.0
PRODID:spatie/icalendar-generator
DESCRIPTION:Events from Junts Cabassers
X-WR-CALDESC:Events from Junts Cabassers
REFRESH-INTERVAL;VALUE=DURATION:PT1440M
X-PUBLISHED-TTL:PT1440M
BEGIN:VTIMEZONE
TZID:Etc/GMT+0
BEGIN:STANDARD
DTSTART:20250731T183000Z
TZOFFSETFROM:+0000
TZOFFSETTO:+0000
END:STANDARD
END:VTIMEZONE
BEGIN:VTIMEZONE
TZID:UTC
BEGIN:STANDARD
DTSTART:20250728T123816Z
TZOFFSETFROM:+0000
TZOFFSETTO:+0000
END:STANDARD
END:VTIMEZONE
BEGIN:VEVENT
UID:80-76
DTSTAMP:20260424T123816Z
SUMMARY:Ple extraordinari de l'Ajuntament de Cabassers
LOCATION:
ORGANIZER;CN=Administrador:MAILTO:info@cabassers.net
DTSTART;TZID=Etc/GMT+0:20260427T183000
DTEND;TZID=Etc/GMT+0:20260427T193000
X-ALT-DESC;FMTTYPE=TEXT/HTML:Ordre del dia: 1. Dació compte decret Contrac
 tació de l’actuació a la Xarxa de Clavegueram a la zona del C/ Verdagu
 er\, mitjançant procediment d’emergència 2. Proposta d'acord per sol·
 licitar a Memorial Democràtic l'adhesió de l'Ajuntament de Cabassers al 
 projecte Stolpersteine i autoritzar la instal·lació de les llambordes en
  memòria dels veïns deportats als camps nazis.&amp;hellip\;
CATEGORIES:General
URL;VALUE=URI:https://www.cabassers.net/mc-events/ple-extraordinari-de-laju
 ntament-de-cabassers-3/
METHOD:PUBLISH
END:VEVENT
END:VCALENDAR