BEGIN:VCALENDAR
VERSION:2.0
PRODID:spatie/icalendar-generator
DESCRIPTION:Events from Junts Cabassers
X-WR-CALDESC:Events from Junts Cabassers
REFRESH-INTERVAL;VALUE=DURATION:PT1440M
X-PUBLISHED-TTL:PT1440M
BEGIN:VTIMEZONE
TZID:Etc/GMT+0
BEGIN:STANDARD
DTSTART:20250413T190000Z
TZOFFSETFROM:+0000
TZOFFSETTO:+0000
END:STANDARD
END:VTIMEZONE
BEGIN:VTIMEZONE
TZID:UTC
BEGIN:STANDARD
DTSTART:20250728T160147Z
TZOFFSETFROM:+0000
TZOFFSETTO:+0000
END:STANDARD
END:VTIMEZONE
BEGIN:VEVENT
UID:74-71
DTSTAMP:20260424T160147Z
SUMMARY:Ple ordinari corresponent al mes de desembre de 2025
LOCATION:
ORGANIZER;CN=Administrador:MAILTO:info@cabassers.net
DTSTART;TZID=Etc/GMT+0:20260108T190000
DTEND;TZID=Etc/GMT+0:20260108T200000
X-ALT-DESC;FMTTYPE=TEXT/HTML:SECRETARIA Aprovació\, si s'escau\, de l'acta
  de la sessió ordinària celebrada el dia 29 de setembre 2025 Aprovacíó
 \, si s'escau\, de l'acta de la sessió extraordinaria celebrada el dia 29
  d'octubre 2025 Aprovació\, si s'escau\, de l'acta de la sessió extraord
 inària celebrada\, a proposta de la quarta part dels regidors\, el dia 29
  octubre 2025&amp;hellip\;
CATEGORIES:General
URL;VALUE=URI:https://www.cabassers.net/mc-events/ple-ordinari-corresponent
 -al-mes-de-desembre-de-2025/
METHOD:PUBLISH
END:VEVENT
END:VCALENDAR