BEGIN:VCALENDAR
VERSION:2.0
PRODID:spatie/icalendar-generator
DESCRIPTION:Events from Junts Cabassers
X-WR-CALDESC:Events from Junts Cabassers
REFRESH-INTERVAL;VALUE=DURATION:PT1440M
X-PUBLISHED-TTL:PT1440M
BEGIN:VTIMEZONE
TZID:Etc/GMT+0
BEGIN:STANDARD
DTSTART:20250130T193000Z
TZOFFSETFROM:+0000
TZOFFSETTO:+0000
END:STANDARD
END:VTIMEZONE
BEGIN:VTIMEZONE
TZID:UTC
BEGIN:STANDARD
DTSTART:20250728T190428Z
TZOFFSETFROM:+0000
TZOFFSETTO:+0000
END:STANDARD
END:VTIMEZONE
BEGIN:VEVENT
UID:71-68
DTSTAMP:20260424T190428Z
SUMMARY:Comissió Especial de Comptes
LOCATION:
ORGANIZER;CN=Administrador:MAILTO:info@cabassers.net
DTSTART;TZID=Etc/GMT+0:20251027T193000
DTEND;TZID=Etc/GMT+0:20251027T203000
X-ALT-DESC;FMTTYPE=TEXT/HTML:Aprovació del Compte General de l'any 2024.
CATEGORIES:General
URL;VALUE=URI:https://www.cabassers.net/mc-events/comissio-especial-de-comp
 tes-3/
METHOD:PUBLISH
END:VEVENT
END:VCALENDAR