BEGIN:VCALENDAR
VERSION:2.0
PRODID:spatie/icalendar-generator
DESCRIPTION:Events from Junts Cabassers
X-WR-CALDESC:Events from Junts Cabassers
REFRESH-INTERVAL;VALUE=DURATION:PT1440M
X-PUBLISHED-TTL:PT1440M
BEGIN:VTIMEZONE
TZID:Etc/GMT+0
BEGIN:STANDARD
DTSTART:20250102T190000Z
TZOFFSETFROM:+0000
TZOFFSETTO:+0000
END:STANDARD
END:VTIMEZONE
BEGIN:VTIMEZONE
TZID:UTC
BEGIN:STANDARD
DTSTART:20250728T180914Z
TZOFFSETFROM:+0000
TZOFFSETTO:+0000
END:STANDARD
END:VTIMEZONE
BEGIN:VEVENT
UID:70-67
DTSTAMP:20260424T180914Z
SUMMARY:Ple ordinari de l'Ajuntament de Cabassers
LOCATION:
ORGANIZER;CN=Administrador:MAILTO:info@cabassers.net
DTSTART;TZID=Etc/GMT+0:20250929T190000
DTEND;TZID=Etc/GMT+0:20250929T210000
X-ALT-DESC;FMTTYPE=TEXT/HTML:Ordre del dia. Secretaria 1. Ple ordinari de j
 uny 2. Ple extraordinari a proposta de la quarta part dels regidors any 20
 25 3. Ple extraordinari setembre 4. Dació de compte dels decrets de la Pr
 esidència del núm. 77 al núm. 130 de 2025 Alcaldia 5. Adhesió al conve
 ni del Consell Comarcal del Priorat en matèria&amp;hellip\;
CATEGORIES:General
URL;VALUE=URI:https://www.cabassers.net/mc-events/ple-ordinari-de-lajuntame
 nt-de-cabassers-4/
METHOD:PUBLISH
END:VEVENT
END:VCALENDAR