BEGIN:VCALENDAR
VERSION:2.0
PRODID:spatie/icalendar-generator
DESCRIPTION:Events from Junts Cabassers
X-WR-CALDESC:Events from Junts Cabassers
REFRESH-INTERVAL;VALUE=DURATION:PT1440M
X-PUBLISHED-TTL:PT1440M
BEGIN:VTIMEZONE
TZID:Etc/GMT+0
BEGIN:STANDARD
DTSTART:20240919T193000Z
TZOFFSETFROM:+0000
TZOFFSETTO:+0000
END:STANDARD
END:VTIMEZONE
BEGIN:VTIMEZONE
TZID:UTC
BEGIN:STANDARD
DTSTART:20250728T195710Z
TZOFFSETFROM:+0000
TZOFFSETTO:+0000
END:STANDARD
END:VTIMEZONE
BEGIN:VEVENT
UID:67-64
DTSTAMP:20260424T195710Z
SUMMARY:Ple ordinari de l'Ajuntament de Cabassers
LOCATION:
ORGANIZER;CN=Administrador:MAILTO:info@cabassers.net
DTSTART;TZID=Etc/GMT+0:20250616T193000
DTEND;TZID=Etc/GMT+0:20250616T203000
X-ALT-DESC;FMTTYPE=TEXT/HTML:Ordre del dia Secretaria: 1. Ple ordinari Mar
 ç 2025 2. Ple Extraordinari maig 3. Dació de compte dels decrets de la P
 residència del núm. 35 al núm. 76 de 2025 Alcaldia: 4. Aprovació feste
 s locals 2026 5. Modificació del pressupost 02/2025 de crèdit extraordin
 ari i suplement de crèdit 6. Prorroga conveni de col·laboració del nost
 re&amp;hellip\;
CATEGORIES:General
URL;VALUE=URI:https://www.cabassers.net/mc-events/ple-ordinari-de-lajuntame
 nt-de-cabassers-3/
METHOD:PUBLISH
END:VEVENT
END:VCALENDAR