BEGIN:VCALENDAR
VERSION:2.0
PRODID:spatie/icalendar-generator
DESCRIPTION:Events from Junts Cabassers
X-WR-CALDESC:Events from Junts Cabassers
REFRESH-INTERVAL;VALUE=DURATION:PT1440M
X-PUBLISHED-TTL:PT1440M
BEGIN:VTIMEZONE
TZID:Etc/GMT+0
BEGIN:STANDARD
DTSTART:20240822T190000Z
TZOFFSETFROM:+0000
TZOFFSETTO:+0000
END:STANDARD
END:VTIMEZONE
BEGIN:VTIMEZONE
TZID:UTC
BEGIN:STANDARD
DTSTART:20250728T210313Z
TZOFFSETFROM:+0000
TZOFFSETTO:+0000
END:STANDARD
END:VTIMEZONE
BEGIN:VEVENT
UID:66-63
DTSTAMP:20260424T210313Z
SUMMARY:Ple extraordinari de l'Ajuntament de Cabassers
LOCATION:
ORGANIZER;CN=Administrador:MAILTO:info@cabassers.net
DTSTART;TZID=Etc/GMT+0:20250519T190000
DTEND;TZID=Etc/GMT+0:20250519T193000
X-ALT-DESC;FMTTYPE=TEXT/HTML:Ordre del dia: 1. Dació de compte: Aprovació
  de la liquidació de pressupost de l’exercici 2024. 2. Aprovació PAESC
  2025 Hem presentat una sol·licitud perquè es canviï l'hora d'aquest pl
 e\, ja que coincideix amb el ple ordinari del Consell Comarcal del Priorat
  i el regidor de Junts és també conseller comarcal\, i per tant està&amp;he
 llip\;
CATEGORIES:General
URL;VALUE=URI:https://www.cabassers.net/mc-events/ple-extraordinari-de-laju
 ntament-de-cabassers/
METHOD:PUBLISH
END:VEVENT
END:VCALENDAR