BEGIN:VCALENDAR
VERSION:2.0
PRODID:spatie/icalendar-generator
DESCRIPTION:Events from Junts Cabassers
X-WR-CALDESC:Events from Junts Cabassers
REFRESH-INTERVAL;VALUE=DURATION:PT1440M
X-PUBLISHED-TTL:PT1440M
BEGIN:VTIMEZONE
TZID:Etc/GMT+0
BEGIN:STANDARD
DTSTART:20240215T130000Z
TZOFFSETFROM:+0000
TZOFFSETTO:+0000
END:STANDARD
END:VTIMEZONE
BEGIN:VTIMEZONE
TZID:UTC
BEGIN:STANDARD
DTSTART:20250728T233631Z
TZOFFSETFROM:+0000
TZOFFSETTO:+0000
END:STANDARD
END:VTIMEZONE
BEGIN:VEVENT
UID:60-57
DTSTAMP:20260424T233631Z
SUMMARY:Comissió Especial de Comptes
LOCATION:
ORGANIZER;CN=Administrador:MAILTO:info@cabassers.net
DTSTART;TZID=Etc/GMT+0:20241111T130000
DTEND;TZID=Etc/GMT+0:20241111T140000
X-ALT-DESC;FMTTYPE=TEXT/HTML:Sessió de la Comissió Especial de Comptes pe
 r aprovar el Compte General 2023 Recurs contra el decret de convocatòria 
 per nul·litat de ple dret Recurs estimat i Comissió Espeical de Comptes 
 tornada a convocar pel 18 de novembre.
CATEGORIES:General
URL;VALUE=URI:https://www.cabassers.net/mc-events/comissio-especial-de-comp
 tes/
METHOD:PUBLISH
END:VEVENT
END:VCALENDAR