BEGIN:VCALENDAR
VERSION:2.0
PRODID:spatie/icalendar-generator
DESCRIPTION:Events from Junts Cabassers
X-WR-CALDESC:Events from Junts Cabassers
REFRESH-INTERVAL;VALUE=DURATION:PT1440M
X-PUBLISHED-TTL:PT1440M
BEGIN:VTIMEZONE
TZID:Etc/GMT+0
BEGIN:STANDARD
DTSTART:20221212T200000Z
TZOFFSETFROM:+0000
TZOFFSETTO:+0000
END:STANDARD
END:VTIMEZONE
BEGIN:VTIMEZONE
TZID:UTC
BEGIN:STANDARD
DTSTART:20250730T033141Z
TZOFFSETFROM:+0000
TZOFFSETTO:+0000
END:STANDARD
END:VTIMEZONE
BEGIN:VEVENT
UID:5-5
DTSTAMP:20260426T033141Z
SUMMARY:Reunió sobre la font de Cavaloca
LOCATION:Ajuntament de Cabassers Major 29  Cabassers
ORGANIZER;CN=Administrador:MAILTO:info@cabassers.net
DTSTART;TZID=Etc/GMT+0:20230908T200000
DTEND;TZID=Etc/GMT+0:20230908T210000
X-ALT-DESC;FMTTYPE=TEXT/HTML:Reunió amb el govern municipal i els regants 
 de la font de Cavaloca.
CATEGORIES:General
URL;VALUE=URI:https://www.cabassers.net/mc-events/reunio-sobre-la-font-de-c
 avaloca/
METHOD:PUBLISH
END:VEVENT
END:VCALENDAR