BEGIN:VCALENDAR
VERSION:2.0
PRODID:spatie/icalendar-generator
DESCRIPTION:Events from Junts Cabassers
X-WR-CALDESC:Events from Junts Cabassers
REFRESH-INTERVAL;VALUE=DURATION:PT1440M
X-PUBLISHED-TTL:PT1440M
BEGIN:VTIMEZONE
TZID:Etc/GMT+0
BEGIN:STANDARD
DTSTART:20230605T190000Z
TZOFFSETFROM:+0000
TZOFFSETTO:+0000
END:STANDARD
END:VTIMEZONE
BEGIN:VTIMEZONE
TZID:UTC
BEGIN:STANDARD
DTSTART:20250729T153348Z
TZOFFSETFROM:+0000
TZOFFSETTO:+0000
END:STANDARD
END:VTIMEZONE
BEGIN:VEVENT
UID:46-45
DTSTAMP:20260425T153348Z
SUMMARY:Trobada amb IpC-AM
LOCATION:
ORGANIZER;CN=Administrador:MAILTO:info@cabassers.net
DTSTART;TZID=Etc/GMT+0:20240301T190000
DTEND;TZID=Etc/GMT+0:20240301T203000
X-ALT-DESC;FMTTYPE=TEXT/HTML:Reunió amb IpC-AM a l'Ajuntament.
CATEGORIES:General
URL;VALUE=URI:https://www.cabassers.net/mc-events/trobada-amb-ipc-am/
METHOD:PUBLISH
END:VEVENT
END:VCALENDAR