BEGIN:VCALENDAR
VERSION:2.0
PRODID:spatie/icalendar-generator
DESCRIPTION:Events from Junts Cabassers
X-WR-CALDESC:Events from Junts Cabassers
REFRESH-INTERVAL;VALUE=DURATION:PT1440M
X-PUBLISHED-TTL:PT1440M
BEGIN:VTIMEZONE
TZID:Etc/GMT+0
BEGIN:STANDARD
DTSTART:20230622T193000Z
TZOFFSETFROM:+0000
TZOFFSETTO:+0000
END:STANDARD
END:VTIMEZONE
BEGIN:VTIMEZONE
TZID:UTC
BEGIN:STANDARD
DTSTART:20250729T124227Z
TZOFFSETFROM:+0000
TZOFFSETTO:+0000
END:STANDARD
END:VTIMEZONE
BEGIN:VEVENT
UID:44-43
DTSTAMP:20260425T124227Z
SUMMARY:Ple extraordinari
LOCATION:
ORGANIZER;CN=Administrador:MAILTO:info@cabassers.net
DTSTART;TZID=Etc/GMT+0:20240318T193000
DTEND;TZID=Etc/GMT+0:20240318T194400
X-ALT-DESC;FMTTYPE=TEXT/HTML:Ple extraordinari sol·licitat per l'oposició
 . Ordre del dia: 1. Acord pel compliment de l'article 18.1 de la Llei 1/19
 98\, de 7 de gener\, de Política Lingüística\, i per tant per a iniciar
  el procediment de canvi de nom oficial del municipi\, de Cabacés per Cab
 assers
CATEGORIES:General
URL;VALUE=URI:https://www.cabassers.net/mc-events/ple-extraordinari-5/
METHOD:PUBLISH
END:VEVENT
END:VCALENDAR