BEGIN:VCALENDAR
VERSION:2.0
PRODID:spatie/icalendar-generator
DESCRIPTION:Events from Junts Cabassers
X-WR-CALDESC:Events from Junts Cabassers
REFRESH-INTERVAL;VALUE=DURATION:PT1440M
X-PUBLISHED-TTL:PT1440M
BEGIN:VTIMEZONE
TZID:Etc/GMT+0
BEGIN:STANDARD
DTSTART:20221223T193000Z
TZOFFSETFROM:+0000
TZOFFSETTO:+0000
END:STANDARD
END:VTIMEZONE
BEGIN:VTIMEZONE
TZID:UTC
BEGIN:STANDARD
DTSTART:20250730T004505Z
TZOFFSETFROM:+0000
TZOFFSETTO:+0000
END:STANDARD
END:VTIMEZONE
BEGIN:VEVENT
UID:4-4
DTSTAMP:20260426T004505Z
SUMMARY:Ple ordinari
LOCATION:Ajuntament de Cabassers Major 29  Cabassers
ORGANIZER;CN=Administrador:MAILTO:info@cabassers.net
DTSTART;TZID=Etc/GMT+0:20230919T193000
DTEND;TZID=Etc/GMT+0:20230919T203000
X-ALT-DESC;FMTTYPE=TEXT/HTML:ORDRE DEL DIA Secretaria 1. Ple de Constituci
 ó de la Corporació (Eleccions locals 2023) 2. Sessió extraordinaria 26.
 06.23 3. Sessió extraordinaria 14.07.23. Ple d’organització 4. Sessió
  extraordinaria 07/08/2023 5. Dació de compte dels decrets de la Presidè
 ncia del núm. 61 al núm. 124 de 2023 Alcaldia 6. Donar compte del Decret
  2023-0000120 de data 13&amp;hellip\;
CATEGORIES:General
URL;VALUE=URI:https://www.cabassers.net/mc-events/ple-ordinari/
METHOD:PUBLISH
END:VEVENT
END:VCALENDAR