BEGIN:VCALENDAR
VERSION:2.0
PRODID:spatie/icalendar-generator
DESCRIPTION:Events from Junts Cabassers
X-WR-CALDESC:Events from Junts Cabassers
REFRESH-INTERVAL;VALUE=DURATION:PT1440M
X-PUBLISHED-TTL:PT1440M
BEGIN:VTIMEZONE
TZID:Etc/GMT+0
BEGIN:STANDARD
DTSTART:20230202T113000Z
TZOFFSETFROM:+0000
TZOFFSETTO:+0000
END:STANDARD
END:VTIMEZONE
BEGIN:VTIMEZONE
TZID:UTC
BEGIN:STANDARD
DTSTART:20250729T232159Z
TZOFFSETFROM:+0000
TZOFFSETTO:+0000
END:STANDARD
END:VTIMEZONE
BEGIN:VEVENT
UID:3-3
DTSTAMP:20260425T232159Z
SUMMARY:Sessió ordinària de la Comissió Especial de Comptes
LOCATION:Ajuntament de Cabassers Major 29  Cabassers
ORGANIZER;CN=Administrador:MAILTO:info@cabassers.net
DTSTART;TZID=Etc/GMT+0:20231030T113000
DTEND;TZID=Etc/GMT+0:20231030T123000
X-ALT-DESC;FMTTYPE=TEXT/HTML:Veurà el Compte General de 2022. La sessió n
 o és pública.
CATEGORIES:General
URL;VALUE=URI:https://www.cabassers.net/mc-events/sessio-ordinaria-de-la-co
 missio-especial-de-comptes/
METHOD:PUBLISH
END:VEVENT
END:VCALENDAR