BEGIN:VCALENDAR
VERSION:2.0
PRODID:spatie/icalendar-generator
DESCRIPTION:Events from Junts Cabassers
X-WR-CALDESC:Events from Junts Cabassers
REFRESH-INTERVAL;VALUE=DURATION:PT1440M
X-PUBLISHED-TTL:PT1440M
BEGIN:VTIMEZONE
TZID:Etc/GMT+0
BEGIN:STANDARD
DTSTART:20230526T193000Z
TZOFFSETFROM:+0000
TZOFFSETTO:+0000
END:STANDARD
END:VTIMEZONE
BEGIN:VTIMEZONE
TZID:UTC
BEGIN:STANDARD
DTSTART:20250729T135502Z
TZOFFSETFROM:+0000
TZOFFSETTO:+0000
END:STANDARD
END:VTIMEZONE
BEGIN:VEVENT
UID:23-23
DTSTAMP:20260425T135502Z
SUMMARY:Ple extraordinari
LOCATION:
ORGANIZER;CN=Administrador:MAILTO:info@cabassers.net
DTSTART;TZID=Etc/GMT+0:20240220T193000
DTEND;TZID=Etc/GMT+0:20240220T203000
X-ALT-DESC;FMTTYPE=TEXT/HTML:Ordre del dia: Donar compte de la liquidació 
 del pressupost de l’exercici 2023. Informar favorablement / aprovar el C
 ompte General de l’exercici 2022. Aprovació de la modificació del pres
 supost 01/2024 de crèdit extraordinari i suplement de crèdit. Moció de 
 suport a la pagesia.
CATEGORIES:General
URL;VALUE=URI:https://www.cabassers.net/mc-events/ple-extraordinari-4/
METHOD:PUBLISH
END:VEVENT
END:VCALENDAR