BEGIN:VCALENDAR
VERSION:2.0
PRODID:spatie/icalendar-generator
DESCRIPTION:Events from Junts Cabassers
X-WR-CALDESC:Events from Junts Cabassers
REFRESH-INTERVAL;VALUE=DURATION:PT1440M
X-PUBLISHED-TTL:PT1440M
BEGIN:VTIMEZONE
TZID:Etc/GMT+0
BEGIN:STANDARD
DTSTART:20230509T111500Z
TZOFFSETFROM:+0000
TZOFFSETTO:+0000
END:STANDARD
END:VTIMEZONE
BEGIN:VTIMEZONE
TZID:UTC
BEGIN:STANDARD
DTSTART:20250729T163435Z
TZOFFSETFROM:+0000
TZOFFSETTO:+0000
END:STANDARD
END:VTIMEZONE
BEGIN:VEVENT
UID:22-22
DTSTAMP:20260425T163435Z
SUMMARY:Festa Major de Sant Blai\, patró de Cabassers
LOCATION:
ORGANIZER;CN=Administrador:MAILTO:info@cabassers.net
DTSTART;TZID=Etc/GMT+0:20240203T111500
DTEND;TZID=Etc/GMT+0:20240203T121500
X-ALT-DESC;FMTTYPE=TEXT/HTML:Celebració de l'eucaristia en honor de Sant B
 lai\, patró de Cabassers.
CATEGORIES:General
URL;VALUE=URI:https://www.cabassers.net/mc-events/festa-major-de-sant-blai-
 patro-de-cabassers/
METHOD:PUBLISH
END:VEVENT
END:VCALENDAR