BEGIN:VCALENDAR
VERSION:2.0
PRODID:spatie/icalendar-generator
DESCRIPTION:Events from Junts Cabassers
X-WR-CALDESC:Events from Junts Cabassers
REFRESH-INTERVAL;VALUE=DURATION:PT1440M
X-PUBLISHED-TTL:PT1440M
BEGIN:VTIMEZONE
TZID:Etc/GMT+0
BEGIN:STANDARD
DTSTART:20250201T193000Z
TZOFFSETFROM:+0000
TZOFFSETTO:+0000
END:STANDARD
END:VTIMEZONE
BEGIN:VTIMEZONE
TZID:UTC
BEGIN:STANDARD
DTSTART:20250728T170238Z
TZOFFSETFROM:+0000
TZOFFSETTO:+0000
END:STANDARD
END:VTIMEZONE
BEGIN:VEVENT
UID:73-70
DTSTAMP:20260424T170238Z
SUMMARY:Ple extraordinari
LOCATION:
ORGANIZER;CN=Administrador:MAILTO:info@cabassers.net
DTSTART;TZID=Etc/GMT+0:20251029T193000
DTEND;TZID=Etc/GMT+0:20251029T200000
X-ALT-DESC;FMTTYPE=TEXT/HTML:Ordre del dia: 1. Reconeixement extrajudicial 
 d'exercicis tancats 2. Modificació article 6 de l'ordenança fiscal 10 Re
 guladora de la taxa per la prestació de serveis a la Piscina Municipal\, 
 instal·lacions esportives i altres serveis anàlegs. 3. Aprovació inicia
 l del DUPROCIM. 4. Aprovació inicial Modificació pressupostaria per supl
 ement de crèdit. 5. Aprovació provisional Ordenança fiscal 19&amp;hellip\;
CATEGORIES:General
URL;VALUE=URI:https://www.cabassers.net/mc-events/ple-extraordinari-12/
METHOD:PUBLISH
END:VEVENT
END:VCALENDAR