BEGIN:VCALENDAR
VERSION:2.0
PRODID:spatie/icalendar-generator
DESCRIPTION:Events from Junts Cabassers
X-WR-CALDESC:Events from Junts Cabassers
REFRESH-INTERVAL;VALUE=DURATION:PT1440M
X-PUBLISHED-TTL:PT1440M
BEGIN:VTIMEZONE
TZID:Etc/GMT+0
BEGIN:STANDARD
DTSTART:20250201T200000Z
TZOFFSETFROM:+0000
TZOFFSETTO:+0000
END:STANDARD
END:VTIMEZONE
BEGIN:VTIMEZONE
TZID:UTC
BEGIN:STANDARD
DTSTART:20250728T160550Z
TZOFFSETFROM:+0000
TZOFFSETTO:+0000
END:STANDARD
END:VTIMEZONE
BEGIN:VEVENT
UID:72-69
DTSTAMP:20260424T160550Z
SUMMARY:Ple extraordinari sol·licitat per l'oposició
LOCATION:
ORGANIZER;CN=Administrador:MAILTO:info@cabassers.net
DTSTART;TZID=Etc/GMT+0:20251029T200000
DTEND;TZID=Etc/GMT+0:20251029T210000
X-ALT-DESC;FMTTYPE=TEXT/HTML:Ordre del dia: 1.Proposta d'acord perquè l'al
 calde aclareixi on s'han fet els treballs de perforació d'un pou que pret
 enia pagar amb un suplement de crèdit de 4.000€ aprovat al ple extraord
 inari del 7 d'octubre de 2024. 2. Proposta d'acord per instar el govern mu
 nicipal a construir un pou de manera tècnica\, legal i transparent. 3.&amp;he
 llip\;
CATEGORIES:General
URL;VALUE=URI:https://www.cabassers.net/mc-events/ple-extraordinari-sollici
 tat-per-loposicio-4/
METHOD:PUBLISH
END:VEVENT
END:VCALENDAR