BEGIN:VCALENDAR
VERSION:2.0
PRODID:spatie/icalendar-generator
DESCRIPTION:Events from Junts Cabassers
X-WR-CALDESC:Events from Junts Cabassers
REFRESH-INTERVAL;VALUE=DURATION:PT1440M
X-PUBLISHED-TTL:PT1440M
BEGIN:VTIMEZONE
TZID:Etc/GMT+0
BEGIN:STANDARD
DTSTART:20241208T190000Z
TZOFFSETFROM:+0000
TZOFFSETTO:+0000
END:STANDARD
END:VTIMEZONE
BEGIN:VTIMEZONE
TZID:UTC
BEGIN:STANDARD
DTSTART:20250728T180855Z
TZOFFSETFROM:+0000
TZOFFSETTO:+0000
END:STANDARD
END:VTIMEZONE
BEGIN:VEVENT
UID:69-66
DTSTAMP:20260424T180855Z
SUMMARY:Ple extraordinari de l'Ajuntament de Cabassers
LOCATION:
ORGANIZER;CN=Administrador:MAILTO:info@cabassers.net
DTSTART;TZID=Etc/GMT+0:20250904T190000
DTEND;TZID=Etc/GMT+0:20250904T193000
X-ALT-DESC;FMTTYPE=TEXT/HTML:Ordre del dia: 1. Aprovació del pla econòmic
  financer.
CATEGORIES:General
URL;VALUE=URI:https://www.cabassers.net/mc-events/ple-extraordinari-de-laju
 ntament-de-cabassers-2/
METHOD:PUBLISH
END:VEVENT
END:VCALENDAR