BEGIN:VCALENDAR
VERSION:2.0
PRODID:spatie/icalendar-generator
DESCRIPTION:Events from Junts Cabassers
X-WR-CALDESC:Events from Junts Cabassers
REFRESH-INTERVAL;VALUE=DURATION:PT1440M
X-PUBLISHED-TTL:PT1440M
BEGIN:VTIMEZONE
TZID:Etc/GMT+0
BEGIN:STANDARD
DTSTART:20240401T190000Z
TZOFFSETFROM:+0000
TZOFFSETTO:+0000
END:STANDARD
END:VTIMEZONE
BEGIN:VTIMEZONE
TZID:UTC
BEGIN:STANDARD
DTSTART:20250728T201127Z
TZOFFSETFROM:+0000
TZOFFSETTO:+0000
END:STANDARD
END:VTIMEZONE
BEGIN:VEVENT
UID:64-61
DTSTAMP:20260424T201127Z
SUMMARY:Ple ordinari de l'Ajuntament de Cabassers
LOCATION:
ORGANIZER;CN=Administrador:MAILTO:info@cabassers.net
DTSTART;TZID=Etc/GMT+0:20241227T190000
DTEND;TZID=Etc/GMT+0:20241227T210000
X-ALT-DESC;FMTTYPE=TEXT/HTML:Ordre del dia: Alcaldia: 1. Ordinari 2. Convoc
 atòria Ple extraordinari 3. Ple sessió extraordinària i urgent 4. Ple e
 xtraordinari 5. Ple extraordinari a proposta de la quarta part dels regido
 rs 6. Dació de compte dels decrets de la Presidència del núm. 133 al n
 úm. 191 de 2024 7. Punt dació Manuela Marchena Ferrer Intervenció: 8.&amp;h
 ellip\;
CATEGORIES:General
URL;VALUE=URI:https://www.cabassers.net/mc-events/ple-ordinari-de-lajuntame
 nt-de-cabassers/
METHOD:PUBLISH
END:VEVENT
END:VCALENDAR