BEGIN:VCALENDAR
VERSION:2.0
PRODID:spatie/icalendar-generator
DESCRIPTION:Events from Junts Cabassers
X-WR-CALDESC:Events from Junts Cabassers
REFRESH-INTERVAL;VALUE=DURATION:PT1440M
X-PUBLISHED-TTL:PT1440M
BEGIN:VTIMEZONE
TZID:Etc/GMT+0
BEGIN:STANDARD
DTSTART:20240307T184500Z
TZOFFSETFROM:+0000
TZOFFSETTO:+0000
END:STANDARD
END:VTIMEZONE
BEGIN:VTIMEZONE
TZID:UTC
BEGIN:STANDARD
DTSTART:20250728T205821Z
TZOFFSETFROM:+0000
TZOFFSETTO:+0000
END:STANDARD
END:VTIMEZONE
BEGIN:VEVENT
UID:63-60
DTSTAMP:20260424T205821Z
SUMMARY:Ple extraordinari sol·licitat per l'oposició
LOCATION:
ORGANIZER;CN=Administrador:MAILTO:info@cabassers.net
DTSTART;TZID=Etc/GMT+0:20241202T184500
DTEND;TZID=Etc/GMT+0:20241202T194500
X-ALT-DESC;FMTTYPE=TEXT/HTML:Ordre del dia: 1. Ple extraordinari a proposta
  de la quarta part dels regidors. Proposta d'acord per reprovar el govern 
 municipal per haver construït un pou sense disposar dels projectes tècni
 cs necessaris\, cosa que ha impedit accedir a les subvencions de l'ACA per
  finançar-ne el cost.
CATEGORIES:General
URL;VALUE=URI:https://www.cabassers.net/mc-events/ple-extraordinari-sollici
 tat-per-loposicio-2/
METHOD:PUBLISH
END:VEVENT
END:VCALENDAR