BEGIN:VCALENDAR
VERSION:2.0
PRODID:spatie/icalendar-generator
DESCRIPTION:Events from Junts Cabassers
X-WR-CALDESC:Events from Junts Cabassers
REFRESH-INTERVAL;VALUE=DURATION:PT1440M
X-PUBLISHED-TTL:PT1440M
BEGIN:VTIMEZONE
TZID:Etc/GMT+0
BEGIN:STANDARD
DTSTART:20240127T080000Z
TZOFFSETFROM:+0000
TZOFFSETTO:+0000
END:STANDARD
END:VTIMEZONE
BEGIN:VTIMEZONE
TZID:UTC
BEGIN:STANDARD
DTSTART:20250728T232030Z
TZOFFSETFROM:+0000
TZOFFSETTO:+0000
END:STANDARD
END:VTIMEZONE
BEGIN:VEVENT
UID:59-56
DTSTAMP:20260424T232030Z
SUMMARY:Ple extraordinari i urgent
LOCATION:
ORGANIZER;CN=Administrador:MAILTO:info@cabassers.net
DTSTART;TZID=Etc/GMT+0:20241023T080000
DTEND;TZID=Etc/GMT+0:20241023T090000
X-ALT-DESC;FMTTYPE=TEXT/HTML:Ordre del dia: Modificació ordenances regulad
 ores de les taxes de subministrament d’aigua i recollida d’escombrarie
 s. Proposta de modificació de crèdit 5/2024 mitjançant crèdit extraord
 inari i suplement de crèdit finançat amb romanent de tresoreria.
CATEGORIES:General
URL;VALUE=URI:https://www.cabassers.net/mc-events/ple-extraordinari-i-urgen
 t-2/
METHOD:PUBLISH
END:VEVENT
END:VCALENDAR