BEGIN:VCALENDAR
VERSION:2.0
PRODID:spatie/icalendar-generator
DESCRIPTION:Events from Junts Cabassers
X-WR-CALDESC:Events from Junts Cabassers
REFRESH-INTERVAL;VALUE=DURATION:PT1440M
X-PUBLISHED-TTL:PT1440M
BEGIN:VTIMEZONE
TZID:Etc/GMT+0
BEGIN:STANDARD
DTSTART:20231221T200000Z
TZOFFSETFROM:+0000
TZOFFSETTO:+0000
END:STANDARD
END:VTIMEZONE
BEGIN:VTIMEZONE
TZID:UTC
BEGIN:STANDARD
DTSTART:20250729T005417Z
TZOFFSETFROM:+0000
TZOFFSETTO:+0000
END:STANDARD
END:VTIMEZONE
BEGIN:VEVENT
UID:57-54
DTSTAMP:20260425T005417Z
SUMMARY:Ple ordinari
LOCATION:
ORGANIZER;CN=Administrador:MAILTO:info@cabassers.net
DTSTART;TZID=Etc/GMT+0:20240916T200000
DTEND;TZID=Etc/GMT+0:20240916T210000
X-ALT-DESC;FMTTYPE=TEXT/HTML:Ordre del dia: Alcaldia: 1. Ple extraordinari 
 18/06/2024 2. Sessió plenària 8/07/2024 3. S'ha sol·licitat la celebrac
 ió de Ple extraordinari a l'emparament del que disposa l'art. 46.2 de la 
 Llei 7/1985\, de 2 d'abril\, LRBRL. 4. Dació de compte dels decrets de la
  Presidència del núm. 103 al núm. 132 de 2024 5. Resolució 'Aprovació
 &amp;hellip\;
CATEGORIES:General
URL;VALUE=URI:https://www.cabassers.net/mc-events/ple-ordinari-5/
METHOD:PUBLISH
END:VEVENT
END:VCALENDAR