BEGIN:VCALENDAR
VERSION:2.0
PRODID:spatie/icalendar-generator
DESCRIPTION:Events from Junts Cabassers
X-WR-CALDESC:Events from Junts Cabassers
REFRESH-INTERVAL;VALUE=DURATION:PT1440M
X-PUBLISHED-TTL:PT1440M
BEGIN:VTIMEZONE
TZID:Etc/GMT+0
BEGIN:STANDARD
DTSTART:20231012T193000Z
TZOFFSETFROM:+0000
TZOFFSETTO:+0000
END:STANDARD
END:VTIMEZONE
BEGIN:VTIMEZONE
TZID:UTC
BEGIN:STANDARD
DTSTART:20250729T015628Z
TZOFFSETFROM:+0000
TZOFFSETTO:+0000
END:STANDARD
END:VTIMEZONE
BEGIN:VEVENT
UID:54-52
DTSTAMP:20260425T015628Z
SUMMARY:Ple ordinari
LOCATION:
ORGANIZER;CN=Administrador:MAILTO:info@cabassers.net
DTSTART;TZID=Etc/GMT+0:20240708T193000
DTEND;TZID=Etc/GMT+0:20240708T203000
X-ALT-DESC;FMTTYPE=TEXT/HTML:Ordre del dia: 1- Dació de comptes dels decre
 ts de la Presidència del núm. 33 al núm. 102 de 2024. 2- Aprovació de 
 les actes de les sessions anteriors. 3- Aprovació de les festes locals de
  2025. 4- Precs i preguntes.
CATEGORIES:General
URL;VALUE=URI:https://www.cabassers.net/mc-events/ple-ordinari-4/
METHOD:PUBLISH
END:VEVENT
END:VCALENDAR