BEGIN:VCALENDAR
VERSION:2.0
PRODID:spatie/icalendar-generator
DESCRIPTION:Events from Junts Cabassers
X-WR-CALDESC:Events from Junts Cabassers
REFRESH-INTERVAL;VALUE=DURATION:PT1440M
X-PUBLISHED-TTL:PT1440M
BEGIN:VTIMEZONE
TZID:Etc/GMT+0
BEGIN:STANDARD
DTSTART:20230922T190000Z
TZOFFSETFROM:+0000
TZOFFSETTO:+0000
END:STANDARD
END:VTIMEZONE
BEGIN:VTIMEZONE
TZID:UTC
BEGIN:STANDARD
DTSTART:20250729T031021Z
TZOFFSETFROM:+0000
TZOFFSETTO:+0000
END:STANDARD
END:VTIMEZONE
BEGIN:VEVENT
UID:51-50
DTSTAMP:20260425T031021Z
SUMMARY:Ple extraordinari
LOCATION:
ORGANIZER;CN=Administrador:MAILTO:info@cabassers.net
DTSTART;TZID=Etc/GMT+0:20240618T190000
DTEND;TZID=Etc/GMT+0:20240618T193000
X-ALT-DESC;FMTTYPE=TEXT/HTML:Ordre del dia: 1. Aprovació definitiva del pr
 ojecte “Construcció d’un nou pou amb caseta al polígon 10\, parcel·
 la 123 de Cabassers” 2. Aprovació de la modificació del pressupost 04/
 2024 de crèdit extraordinari
CATEGORIES:General
URL;VALUE=URI:https://www.cabassers.net/mc-events/ple-extraordinari-9/
METHOD:PUBLISH
END:VEVENT
END:VCALENDAR