BEGIN:VCALENDAR
VERSION:2.0
PRODID:spatie/icalendar-generator
DESCRIPTION:Events from Junts Cabassers
X-WR-CALDESC:Events from Junts Cabassers
REFRESH-INTERVAL;VALUE=DURATION:PT1440M
X-PUBLISHED-TTL:PT1440M
BEGIN:VTIMEZONE
TZID:Etc/GMT+0
BEGIN:STANDARD
DTSTART:20230604T180000Z
TZOFFSETFROM:+0000
TZOFFSETTO:+0000
END:STANDARD
END:VTIMEZONE
BEGIN:VTIMEZONE
TZID:UTC
BEGIN:STANDARD
DTSTART:20250729T111520Z
TZOFFSETFROM:+0000
TZOFFSETTO:+0000
END:STANDARD
END:VTIMEZONE
BEGIN:VEVENT
UID:41-40
DTSTAMP:20260425T111520Z
SUMMARY:Jornada d'estratègia municipal
LOCATION:
ORGANIZER;CN=Administrador:MAILTO:info@cabassers.net
DTSTART;TZID=Etc/GMT+0:20240229T180000
DTEND;TZID=Etc/GMT+0:20240229T210000
X-ALT-DESC;FMTTYPE=TEXT/HTML:Jornada d’estratègia municipal. Electes i c
 àrrecs territorials. Comarca del Priorat. Sala de plens de l’Ajuntament
  de Cornudella de Montsant.
CATEGORIES:General
URL;VALUE=URI:https://www.cabassers.net/mc-events/jornada-destrategia-munic
 ipal/
METHOD:PUBLISH
END:VEVENT
END:VCALENDAR