BEGIN:VCALENDAR
VERSION:2.0
PRODID:spatie/icalendar-generator
DESCRIPTION:Events from Junts Cabassers
X-WR-CALDESC:Events from Junts Cabassers
REFRESH-INTERVAL;VALUE=DURATION:PT1440M
X-PUBLISHED-TTL:PT1440M
BEGIN:VTIMEZONE
TZID:Etc/GMT+0
BEGIN:STANDARD
DTSTART:20230403T110000Z
TZOFFSETFROM:+0000
TZOFFSETTO:+0000
END:STANDARD
END:VTIMEZONE
BEGIN:VTIMEZONE
TZID:UTC
BEGIN:STANDARD
DTSTART:20250729T163938Z
TZOFFSETFROM:+0000
TZOFFSETTO:+0000
END:STANDARD
END:VTIMEZONE
BEGIN:VEVENT
UID:21-21
DTSTAMP:20260425T163938Z
SUMMARY:Reunió amb la Fiscal en Cap de la Fiscalia Provincial de Tarragona
LOCATION:
ORGANIZER;CN=Administrador:MAILTO:info@cabassers.net
DTSTART;TZID=Etc/GMT+0:20231229T110000
DTEND;TZID=Etc/GMT+0:20231229T120000
X-ALT-DESC;FMTTYPE=TEXT/HTML:Reunió amb la Fiscal en Cap de la Fiscalia Pr
 ovincial de Tarragona per analitzar diversos assumptes d'interès municipa
 l.
CATEGORIES:General
URL;VALUE=URI:https://www.cabassers.net/mc-events/reunio-amb-la-fiscal-en-c
 ap-de-la-fiscalia-provincial-de-tarragona/
METHOD:PUBLISH
END:VEVENT
END:VCALENDAR