BEGIN:VCALENDAR
VERSION:2.0
PRODID:spatie/icalendar-generator
DESCRIPTION:Events from Junts Cabassers
X-WR-CALDESC:Events from Junts Cabassers
REFRESH-INTERVAL;VALUE=DURATION:PT1440M
X-PUBLISHED-TTL:PT1440M
BEGIN:VTIMEZONE
TZID:Etc/GMT+0
BEGIN:STANDARD
DTSTART:20230325T190000Z
TZOFFSETFROM:+0000
TZOFFSETTO:+0000
END:STANDARD
END:VTIMEZONE
BEGIN:VTIMEZONE
TZID:UTC
BEGIN:STANDARD
DTSTART:20250729T153359Z
TZOFFSETFROM:+0000
TZOFFSETTO:+0000
END:STANDARD
END:VTIMEZONE
BEGIN:VEVENT
UID:20-20
DTSTAMP:20260425T153359Z
SUMMARY:Ple ordinari
LOCATION:
ORGANIZER;CN=Administrador:MAILTO:info@cabassers.net
DTSTART;TZID=Etc/GMT+0:20231220T190000
DTEND;TZID=Etc/GMT+0:20231220T200000
X-ALT-DESC;FMTTYPE=TEXT/HTML:ORDRE DEL DIA Secretaria Sessió ordinaria 19/
 09/2023 Ple extraordinari 13/11/2023 Dació de compte dels decrets de la P
 residència del núm. 125 al núm. 168 de 2023 Alcaldia Aprovació del pre
 ssupost de l’Ajuntament de Cabassers per a l’exercici 2024 Precs i pre
 guntes PREGUNTA PRESENTADA PEL GRUP MUNICIPAL JUNTS-COMPROMÍS MUNICIPAL p
 erquè el govern expliqui quines mesures ha&amp;hellip\;
CATEGORIES:General
URL;VALUE=URI:https://www.cabassers.net/mc-events/ple-ordinari-2/
METHOD:PUBLISH
END:VEVENT
END:VCALENDAR