BEGIN:VCALENDAR
VERSION:2.0
PRODID:spatie/icalendar-generator
DESCRIPTION:Events from Junts Cabassers
X-WR-CALDESC:Events from Junts Cabassers
REFRESH-INTERVAL;VALUE=DURATION:PT1440M
X-PUBLISHED-TTL:PT1440M
BEGIN:VTIMEZONE
TZID:Etc/GMT+0
BEGIN:STANDARD
DTSTART:20230221T113000Z
TZOFFSETFROM:+0000
TZOFFSETTO:+0000
END:STANDARD
END:VTIMEZONE
BEGIN:VTIMEZONE
TZID:UTC
BEGIN:STANDARD
DTSTART:20250729T170516Z
TZOFFSETFROM:+0000
TZOFFSETTO:+0000
END:STANDARD
END:VTIMEZONE
BEGIN:VEVENT
UID:2-2
DTSTAMP:20260425T170516Z
SUMMARY:Presentació de la finca experimental de viticultura sostenible Mas
  Roger de Cabassers
LOCATION:
ORGANIZER;CN=Administrador:MAILTO:info@cabassers.net
DTSTART;TZID=Etc/GMT+0:20231118T113000
DTEND;TZID=Etc/GMT+0:20231118T133000
X-ALT-DESC;FMTTYPE=TEXT/HTML:Assistirem a la presentació de la finca exper
 imental de viticultura sostenible Mas Roger de Cabassers\, gestionada per 
 Vitec.
CATEGORIES:General
URL;VALUE=URI:https://www.cabassers.net/mc-events/presentacio-de-la-finca-e
 xperimental-de-viticultura-sostenible-mas-roger-de-cabassers/
METHOD:PUBLISH
END:VEVENT
END:VCALENDAR