BEGIN:VCALENDAR
VERSION:2.0
PRODID:spatie/icalendar-generator
DESCRIPTION:Events from Junts Cabassers
X-WR-CALDESC:Events from Junts Cabassers
REFRESH-INTERVAL;VALUE=DURATION:PT1440M
X-PUBLISHED-TTL:PT1440M
BEGIN:VTIMEZONE
TZID:Etc/GMT+0
BEGIN:STANDARD
DTSTART:20230314T110000Z
TZOFFSETFROM:+0000
TZOFFSETTO:+0000
END:STANDARD
END:VTIMEZONE
BEGIN:VTIMEZONE
TZID:UTC
BEGIN:STANDARD
DTSTART:20250729T140233Z
TZOFFSETFROM:+0000
TZOFFSETTO:+0000
END:STANDARD
END:VTIMEZONE
BEGIN:VEVENT
UID:19-19
DTSTAMP:20260425T140233Z
SUMMARY:Inauguració de la fira de l'oli de Cabassers
LOCATION:
ORGANIZER;CN=Administrador:MAILTO:info@cabassers.net
DTSTART;TZID=Etc/GMT+0:20231209T110000
DTEND;TZID=Etc/GMT+0:20231209T120000
X-ALT-DESC;FMTTYPE=TEXT/HTML:Participarem a l'acte d'inauguració de la fir
 a de l'oli de Cabassers i a la recepció amb l'HC Ester Capella\, Conselle
 ra de Territori del Govern de la Generalitat de Catalunya.
CATEGORIES:General
URL;VALUE=URI:https://www.cabassers.net/mc-events/inauguracio-de-la-fira-de
 -loli-de-cabassers/
METHOD:PUBLISH
END:VEVENT
END:VCALENDAR