BEGIN:VCALENDAR
VERSION:2.0
PRODID:spatie/icalendar-generator
DESCRIPTION:Events from Junts Cabassers
X-WR-CALDESC:Events from Junts Cabassers
REFRESH-INTERVAL;VALUE=DURATION:PT1440M
X-PUBLISHED-TTL:PT1440M
BEGIN:VTIMEZONE
TZID:Etc/GMT+0
BEGIN:STANDARD
DTSTART:20230323T120000Z
TZOFFSETFROM:+0000
TZOFFSETTO:+0000
END:STANDARD
END:VTIMEZONE
BEGIN:VTIMEZONE
TZID:UTC
BEGIN:STANDARD
DTSTART:20250729T140716Z
TZOFFSETFROM:+0000
TZOFFSETTO:+0000
END:STANDARD
END:VTIMEZONE
BEGIN:VEVENT
UID:18-18
DTSTAMP:20260425T140716Z
SUMMARY:Sessió ordinària de la Comissió Especial de Comptes
LOCATION:
ORGANIZER;CN=Administrador:MAILTO:info@cabassers.net
DTSTART;TZID=Etc/GMT+0:20231218T120000
DTEND;TZID=Etc/GMT+0:20231218T130000
X-ALT-DESC;FMTTYPE=TEXT/HTML:ORDRE DEL DIA Secretaria-Intervenció 1. Infor
 mar favorablement / aprovar el Compte General de l'exercici 2022
CATEGORIES:General
URL;VALUE=URI:https://www.cabassers.net/mc-events/sessio-ordinaria-de-la-co
 missio-especial-de-comptes-2/
METHOD:PUBLISH
END:VEVENT
END:VCALENDAR