BEGIN:VCALENDAR
VERSION:2.0
PRODID:spatie/icalendar-generator
DESCRIPTION:Events from Junts Cabassers
X-WR-CALDESC:Events from Junts Cabassers
REFRESH-INTERVAL;VALUE=DURATION:PT1440M
X-PUBLISHED-TTL:PT1440M
BEGIN:VTIMEZONE
TZID:Etc/GMT+0
BEGIN:STANDARD
DTSTART:20230302T193000Z
TZOFFSETFROM:+0000
TZOFFSETTO:+0000
END:STANDARD
END:VTIMEZONE
BEGIN:VTIMEZONE
TZID:UTC
BEGIN:STANDARD
DTSTART:20250729T153236Z
TZOFFSETFROM:+0000
TZOFFSETTO:+0000
END:STANDARD
END:VTIMEZONE
BEGIN:VEVENT
UID:16-16
DTSTAMP:20260425T153236Z
SUMMARY:Assemblea de Junts per Catalunya al Camp de Tarragona
LOCATION:
ORGANIZER;CN=Administrador:MAILTO:info@cabassers.net
DTSTART;TZID=Etc/GMT+0:20231127T193000
DTEND;TZID=Etc/GMT+0:20231127T210000
X-ALT-DESC;FMTTYPE=TEXT/HTML:Vila-seca
CATEGORIES:General
URL;VALUE=URI:https://www.cabassers.net/mc-events/assemblea-de-junts-per-ca
 talunya-al-camp-de-tarragona/
METHOD:PUBLISH
END:VEVENT
END:VCALENDAR